BEGIN:VCALENDAR
VERSION:2.0
PRODID:-//ChamberMaster//Event Calendar 2.0//EN
METHOD:PUBLISH
X-PUBLISHED-TTL:P3D
REFRESH-INTERVAL:P3D
CALSCALE:GREGORIAN
BEGIN:VEVENT
DTSTART;VALUE=DATE:20220604
DTEND;VALUE=DATE:20220606
TRANSP:TRANSPARENT
X-MICROSOFT-CDO-ALLDAYEVENT:TRUE
SUMMARY:Wisconsin’s Free Fun Weekend
DESCRIPTION:State residents and visitors alike are able to enjoy free fishing\, free admission to state parks and trails\, and free ATV riding on public trails.
X-ALT-DESC;FMTTYPE=text/html:<span style="color:windowtext\;"><span style="font-family:arial\,sans-serif\;">State residents and visitors alike are able to enjoy free fishing\, free admission to state parks and trails\, and free ATV riding on public trails.</span></span>
LOCATION:
UID:e.1604.9859
SEQUENCE:3
DTSTAMP:20260424T022745Z
URL:https://business.prairieduchien.org/events/details/wisconsin-s-free-fun-weekend-9859
END:VEVENT

END:VCALENDAR
