BEGIN:VCALENDAR
VERSION:2.0
PRODID:-//ChamberMaster//Event Calendar 2.0//EN
METHOD:PUBLISH
X-PUBLISHED-TTL:P3D
REFRESH-INTERVAL:P3D
CALSCALE:GREGORIAN
BEGIN:VEVENT
DTSTART:20220416T150000Z
DTEND:20220416T170000Z
X-MICROSOFT-CDO-ALLDAYEVENT:FALSE
SUMMARY:Welcome Spring
DESCRIPTION:Bring the family out to the Wetlands Centre to welcome spring with hands-on nature activities and our annual Easter Egg Hunt. Enjoy a walk around the wetland while young ones hunt for eggs and older kids do a scavenger hunt. There is no set start time for the egg hunt\, just arrive any time between 10 am and noon
X-ALT-DESC;FMTTYPE=text/html:<span style="font-family:arial\,sans-serif\;"><span style="font-size:12.0pt\;">Bring the family out to the Wetlands Centre to welcome spring with hands-on nature activities and our annual Easter Egg Hunt. Enjoy a walk around the wetland while young ones hunt for eggs and older kids do a scavenger hunt. There is no set start time for the egg hunt\, just arrive any time between 10 am and noon</span></span>&nbsp\;
LOCATION:Driftless Area Wetlands Centre\, Marquette IA
UID:e.1604.9542
SEQUENCE:3
DTSTAMP:20260422T225912Z
URL:https://business.prairieduchien.org/events/details/welcome-spring-9542
END:VEVENT

END:VCALENDAR
