BEGIN:VCALENDAR
VERSION:2.0
PRODID:-//ChamberMaster//Event Calendar 2.0//EN
METHOD:PUBLISH
X-PUBLISHED-TTL:P3D
REFRESH-INTERVAL:P3D
CALSCALE:GREGORIAN
BEGIN:VEVENT
DTSTART:20230917T190000Z
DTEND:20230917T200000Z
X-MICROSOFT-CDO-ALLDAYEVENT:FALSE
SUMMARY:Villa Louis Speaker Series
DESCRIPTION:Villa Louis Speaker Series: Join us for our free speaker series that takes place in the Villa Louis 1850 Brisbois Fur Trade Warehouse. The hour-long programs begins at 2 p.m. and touches on different aspects of cultural and natural history of our area. For further details\, visit www.villalouis.org or call Villa Louis at 608-326-2721. For ticketing questions please contact the Wisconsin Historical Society Box Office at 608-264-4848 or boxoffice@wisconsinhistory.org.
X-ALT-DESC;FMTTYPE=text/html:<strong><span style="font-size:12.0pt\;">Villa Louis Speaker Series: </span></strong><span style="font-size:12.0pt\;">Join us for our free speaker series that takes place in the Villa Louis 1850 Brisbois Fur Trade Warehouse. The hour-long programs begins at 2 p.m. and touches on different aspects of cultural and natural history of our area. For further details\,</span><span style="font-size:12.0pt\;"> visit </span><a href="http://www.villalouis.org/"><span style="font-size:12.0pt\;">www.villalouis.org</span></a><span style="font-size:12.0pt\;"> or call Villa Louis at 608-326-2721. For ticketing questions <span style="background:white\;"><span style="color:#050505\;">please contact the Wisconsin Historical Society Box Office at 608-264-4848 or boxoffice@wisconsinhistory.org.</span></span></span>
LOCATION:
UID:e.1604.10273
SEQUENCE:3
DTSTAMP:20260422T093951Z
URL:https://business.prairieduchien.org/events/details/villa-louis-speaker-series-10273
END:VEVENT

END:VCALENDAR
