BEGIN:VCALENDAR
VERSION:2.0
PRODID:-//ChamberMaster//Event Calendar 2.0//EN
METHOD:PUBLISH
X-PUBLISHED-TTL:P3D
REFRESH-INTERVAL:P3D
CALSCALE:GREGORIAN
BEGIN:VEVENT
DTSTART;VALUE=DATE:20220624
DTEND;VALUE=DATE:20220625
TRANSP:TRANSPARENT
X-MICROSOFT-CDO-ALLDAYEVENT:TRUE
SUMMARY:Villa Louis Behind the Scenes
DESCRIPTION:Take a peek behind the velvet ropes of a historic house museum. This tour presents a more in-depth look at the Dousman family and gives a glimpse into the day-to-day inner workings of this restored Victorian mansion. Each round of behind-the-scenes tours highlights a different object from the Dousman family collection. Tours are two hours and include visits to the nooks and crannies of the restored mansion\, including the attic and basement. Reservations required.
X-ALT-DESC;FMTTYPE=text/html:<span style="background:white\;"><span style="font-family:arial\,sans-serif\;">Take a peek</span></span><span style="font-family:arial\,sans-serif\;">&nbsp\;behind the velvet ropes of a historic house&nbsp\;museum. T</span><span style="font-family:arial\,sans-serif\;">his tour presents a more in-depth look at the</span> <span style="font-family:arial\,sans-serif\;">Dousman family and gives a glimpse into the day-to-day inner workings of this</span> <span style="font-family:arial\,sans-serif\;">restored Victorian mansion. Each round of behind-the-scenes tours&nbsp\;highlights&nbsp\;a different&nbsp\;object from the Dousman family collection. Tours are two hours and include visits to the</span> <span style="font-family:arial\,sans-serif\;">nooks and crannies of the restored mansion\, including the attic and basement. Reservations required.</span>&nbsp\;
LOCATION:
UID:e.1604.10015
SEQUENCE:3
DTSTAMP:20260424T033405Z
URL:https://business.prairieduchien.org/events/details/villa-louis-behind-the-scenes-10015
END:VEVENT

END:VCALENDAR
