BEGIN:VCALENDAR
VERSION:2.0
PRODID:-//ChamberMaster//Event Calendar 2.0//EN
METHOD:PUBLISH
X-PUBLISHED-TTL:P3D
REFRESH-INTERVAL:P3D
CALSCALE:GREGORIAN
BEGIN:VEVENT
DTSTART;VALUE=DATE:20230929
DTEND;VALUE=DATE:20230930
TRANSP:TRANSPARENT
X-MICROSOFT-CDO-ALLDAYEVENT:TRUE
SUMMARY:Villa Louis Behind the Scenes
DESCRIPTION:Villa Louis Behind the Scenes Take a peek behind the velvet ropes of a historic house museum on the last Friday of the month from June to October. This tour presents a more in-depth look at the Dousman family and gives a glimpse into the day-to-day inner workings of this restored Victorian mansion. Each round of behind-the-scenes tours highlights a different object from the Dousman family collection. Tours are from 10:30 a.m. to 12:30 p.m. and include visits to the nooks and crannies of the restored mansion\, including the attic and basement. Reservations required. For more information visit www.villalouis.org or call Villa Louis at 608-326-2721. For ticketing questions please contact the Wisconsin Historical Society Box Office at 608-264-4848 or boxoffice@wisconsinhistory.org.
X-ALT-DESC;FMTTYPE=text/html:<strong><span style="font-family:calibri\,sans-serif\;"><span style="font-size:11.0pt\;">Villa Louis Behind the Scenes</span></span></strong> <span style="background-image:initial\;background-position:initial\;background-size:initial\;background-repeat:initial\;background-attachment:initial\;background-origin:initial\;background-clip:initial\;"><span style="color:black\;"><span style="font-family:calibri\,sans-serif\;"><span style="font-size:11pt\;">Take a peek</span></span></span></span><span style="font-family:calibri\,sans-serif\;"><span style="font-size:11.0pt\;">&nbsp\;behind the velvet ropes of a historic house&nbsp\;museum on the&nbsp\;last Friday&nbsp\;</span></span><span style="font-family:calibri\,sans-serif\;"><span style="font-size:11.0pt\;">of the month from June to October. This tour presents a more in-depth look at the</span></span> <span style="font-family:calibri\,sans-serif\;"><span style="font-size:11.0pt\;">Dousman family and gives a glimpse into the day-to-day inner workings of this</span></span> <span style="font-family:calibri\,sans-serif\;"><span style="font-size:11.0pt\;">restored Victorian mansion. Each round of behind-the-scenes tours&nbsp\;highlights&nbsp\;a different&nbsp\;object from the Dousman family collection. Tours are from 10:30 a.m. to 12:30 p.m. and include visits to the</span></span> <span style="font-family:calibri\,sans-serif\;"><span style="font-size:11.0pt\;">nooks and crannies of the restored mansion\, including the attic and basement. Reservations required.</span></span>&nbsp\;<span style="font-family:calibri\,sans-serif\;"><span style="font-size:11.0pt\;">For more information visit </span></span><span style="font-family:calibri\,sans-serif\;"><span style="font-size:11.0pt\;"><a href="http://www.villalouis.org/">www.villalouis.org</a></span></span><span style="font-family:calibri\,sans-serif\;"><span style="font-size:11.0pt\;"> or call Villa Louis at 608-326-2721. For ticketing questions <span style="background-image:initial\;background-position:initial\;background-size:initial\;background-repeat:initial\;background-attachment:initial\;background-origin:initial\;background-clip:initial\;"><span style="color:#050505\;">please contact the Wisconsin Historical Society Box Office at 608-264-4848 or </span></span></span></span><span style="font-family:calibri\,sans-serif\;"><span style="font-size:11.0pt\;"><a href="mailto:boxoffice@wisconsinhistory.org"><span style="background-image:initial\;background-position:initial\;background-size:initial\;background-repeat:initial\;background-attachment:initial\;background-origin:initial\;background-clip:initial\;">boxoffice@wisconsinhistory.org</span></a></span></span><span style="background-image:initial\;background-position:initial\;background-size:initial\;background-repeat:initial\;background-attachment:initial\;background-origin:initial\;background-clip:initial\;"><span style="color:#050505\;"><span style="font-family:calibri\,sans-serif\;"><span style="font-size:11pt\;">.</span></span></span></span>
LOCATION:
UID:e.1604.10228
SEQUENCE:3
DTSTAMP:20260422T094628Z
URL:https://business.prairieduchien.org/events/details/villa-louis-behind-the-scenes-09-29-2023-10228
END:VEVENT

END:VCALENDAR
