BEGIN:VCALENDAR
VERSION:2.0
PRODID:-//ChamberMaster//Event Calendar 2.0//EN
METHOD:PUBLISH
X-PUBLISHED-TTL:P3D
REFRESH-INTERVAL:P3D
CALSCALE:GREGORIAN
BEGIN:VEVENT
DTSTART:20231202T183000Z
DTEND:20231203T233000Z
X-MICROSOFT-CDO-ALLDAYEVENT:FALSE
SUMMARY:Victorian Home for the Holidays
DESCRIPTION:These afternoon and evening guided tours showcase traditions and customs from the Dousman family. Get into the holiday spirit and see the mansion decorated for the season. The tour includes a chance to sit in the parlor to hear holiday music being played on the family Steinway concert grand. The smells and tastes of holiday treats await you with the cook in the historic kitchen. Tours are Saturday\, 10:30 a.m. ? 9 p.m. and Sunday\, 10:30 a.m. ? 5 p.m. For more information visit www.villalouis.org or call Villa Louis at 608-326-2721. For ticketing questions please contact the Wisconsin Historical Society Box Office at 608-264-4848 or boxoffice@wisconsinhistory.org.
X-ALT-DESC;FMTTYPE=text/html:<div style="margin-top:0in\;margin-right:0in\;margin-bottom:0in\;vertical-align:baseline\;"><a name="_Hlk119317658"><span style="font-family:calibri\,sans-serif\;">These afternoon and evening guided tours showcase traditions and customs from the Dousman family. Get into the holiday spirit and see the mansion decorated for the season. The tour includes a chance to sit in the parlor to hear holiday music being played on the family Steinway concert grand. The smells and tastes of holiday treats await you with the cook in the historic kitchen. Tours are </span></a><span style="font-family:calibri\,sans-serif\;">Saturday\, 10:30 a.m. ? 9 p.m. and Sunday\, 10:30 a.m. ? 5 p.m. </span><span style="font-family:calibri\,sans-serif\;">For more information visit </span><a href="http://www.villalouis.org/"><span style="font-family:calibri\,sans-serif\;">www.villalouis.org</span></a><span style="font-family:calibri\,sans-serif\;"> or call Villa Louis at 608-326-2721. For ticketing questions <span style="background:white\;"><span style="color:#050505\;">please contact the Wisconsin Historical Society Box Office at 608-264-4848 or </span></span></span><a href="mailto:boxoffice@wisconsinhistory.org"><span style="background:white\;"><span style="font-family:calibri\,sans-serif\;">boxoffice@wisconsinhistory.org</span></span></a><span style="background:white\;"><span style="color:#050505\;"><span style="font-family:calibri\,sans-serif\;">.</span></span></span></div>\n
LOCATION:Villa Louis Historical Site 1521 North Villa Louis Road Prairie du Chien\, WI
UID:e.1604.10306
SEQUENCE:3
DTSTAMP:20260422T132113Z
URL:https://business.prairieduchien.org/events/details/victorian-home-for-the-holidays-10306
END:VEVENT

END:VCALENDAR
