BEGIN:VCALENDAR
VERSION:2.0
PRODID:-//ChamberMaster//Event Calendar 2.0//EN
METHOD:PUBLISH
X-PUBLISHED-TTL:P3D
REFRESH-INTERVAL:P3D
CALSCALE:GREGORIAN
BEGIN:VEVENT
DTSTART:20231005T210000Z
DTEND:20231005T233000Z
X-MICROSOFT-CDO-ALLDAYEVENT:FALSE
SUMMARY:Thursday Night Farmers Market
DESCRIPTION:Live Music by Ann Christoffer\n\nLucky Park 4-6:30 p.m.\n\nYouth vendors featured the 3rd Thursday of the month. Youth under 18 pay no vendor fee.
X-ALT-DESC;FMTTYPE=text/html:Live Music by Ann Christoffer<br />\nLucky Park&nbsp\;4-6:30 p.m.<br />\nYouth vendors featured the 3rd Thursday of the month. Youth under 18 pay no vendor fee.
LOCATION:
UID:e.1604.10388
SEQUENCE:3
DTSTAMP:20260422T105802Z
URL:https://business.prairieduchien.org/events/details/thursday-night-farmers-market-10-05-2023-10388
END:VEVENT

END:VCALENDAR
