BEGIN:VCALENDAR
VERSION:2.0
PRODID:-//ChamberMaster//Event Calendar 2.0//EN
METHOD:PUBLISH
X-PUBLISHED-TTL:P3D
REFRESH-INTERVAL:P3D
CALSCALE:GREGORIAN
BEGIN:VEVENT
DTSTART:20220219T013000Z
DTEND:20220219T033000Z
X-MICROSOFT-CDO-ALLDAYEVENT:FALSE
SUMMARY:The Wisconsin Brass Quintet
DESCRIPTION:Join us for an evening of music from the iconic film scores of John Williams\, Ennio Morricone\, Leonard Bernstein\, and many more. This exciting program features selections from movies spanning the history of the Silver Screen\, from Charlie Chaplin's Modern Times to upbeat hits from recent blockbusters. This will be a concert of sentimental favorites\, sonic surprises\, virtuosic brass\, and dazzling drum set playing!!!\n\nFeaturing the The Wisconsin Brass Quintet (UW-Madison Faculty Ensemble-in-Residence)\, with special guest Matthew Endres (Adjunct Professor of Drum Set and Jazz History)
X-ALT-DESC;FMTTYPE=text/html:<div class="kvgmc6g5 cxmmr5t8 oygrvhab hcukyx3x c1et5uql" style="overflow-wrap: break-word\; margin: 0px\; font-family: &quot\;Segoe UI Historic&quot\;\, &quot\;Segoe UI&quot\;\, Helvetica\, Arial\, sans-serif\; color: rgb(5\, 5\, 5)\; font-size: 15px\;">Join us for an evening of music from the iconic film scores of John Williams\, Ennio Morricone\, Leonard Bernstein\, and many more. This exciting program features selections from movies spanning the history of the Silver Screen\, from Charlie Chaplin&#39\;s Modern Times to upbeat hits from recent blockbusters. This will be a concert of sentimental favorites\, sonic surprises\, virtuosic brass\, and dazzling drum set playing!!!</div>\n\n<div class="cxmmr5t8 oygrvhab hcukyx3x c1et5uql o9v6fnle" style="overflow-wrap: break-word\; margin: 0.5em 0px 0px\; font-family: &quot\;Segoe UI Historic&quot\;\, &quot\;Segoe UI&quot\;\, Helvetica\, Arial\, sans-serif\; color: rgb(5\, 5\, 5)\; font-size: 15px\;">Featuring the The Wisconsin Brass Quintet (UW-Madison Faculty Ensemble-in-Residence)\, with special guest Matthew Endres (Adjunct Professor of Drum Set and Jazz History)</div>\n
LOCATION:Prairie du Chien Area Arts Center 800 E. Crawford Street Prairie du Chien\, WI 53821
UID:e.1604.10103
SEQUENCE:3
DTSTAMP:20260422T220550Z
URL:https://business.prairieduchien.org/events/details/the-wisconsin-brass-quintet-10103
END:VEVENT

END:VCALENDAR
