BEGIN:VCALENDAR
VERSION:2.0
PRODID:-//ChamberMaster//Event Calendar 2.0//EN
METHOD:PUBLISH
X-PUBLISHED-TTL:P3D
REFRESH-INTERVAL:P3D
CALSCALE:GREGORIAN
BEGIN:VEVENT
DTSTART:20231028T000000Z
DTEND:20231028T033000Z
X-MICROSOFT-CDO-ALLDAYEVENT:FALSE
SUMMARY:The Haunted Halls of Terror
DESCRIPTION:Sponsored by Scream Extreme\, www.HallsofTerrorpdc.com.
X-ALT-DESC;FMTTYPE=text/html:<span style="color:windowtext\;"><span style="font-family:arial\,sans-serif\;">Sponsored by Scream Extreme\, www.HallsofTerrorpdc.com.</span></span>
LOCATION:St. Feriole Island Prairie du Chien
UID:e.1604.10292
SEQUENCE:3
DTSTAMP:20260422T105802Z
URL:https://business.prairieduchien.org/events/details/the-haunted-halls-of-terror-10-27-2023-10292
END:VEVENT

END:VCALENDAR
