BEGIN:VCALENDAR
VERSION:2.0
PRODID:-//ChamberMaster//Event Calendar 2.0//EN
METHOD:PUBLISH
X-PUBLISHED-TTL:P3D
REFRESH-INTERVAL:P3D
CALSCALE:GREGORIAN
BEGIN:VEVENT
DTSTART:20240224T140000Z
DTEND:20240224T170000Z
X-MICROSOFT-CDO-ALLDAYEVENT:FALSE
SUMMARY:Sweetheart Pancake Breakfast
DESCRIPTION:Ferryville Vision and Promotion's Sweetheart Pancake Breakfast. Ferryville Village Hall 8 am to 11 am. Homemade pancakes\, luscious biscuits and gravy\, scrambled eggs\, Norwegian Coffee and more. 608.734.9018\, VisitFerryville.com
X-ALT-DESC;FMTTYPE=text/html:<span style="font-family:arial\,sans-serif\;">Ferryville Vision and Promotion&rsquo\;s <strong>Sweetheart Pancake Breakfast</strong></span><span style="font-family:arial\,sans-serif\;">. Ferryville Village Hall 8 am to 11 am. Homemade pancakes\, luscious biscuits and gravy\, scrambled eggs\, Norwegian Coffee and more. 608.734.9018\, VisitFerryville.com</span>
LOCATION:
UID:e.1604.10414
SEQUENCE:3
DTSTAMP:20260422T154045Z
URL:https://business.prairieduchien.org/events/details/sweetheart-pancake-breakfast-10414
END:VEVENT

END:VCALENDAR
