BEGIN:VCALENDAR
VERSION:2.0
PRODID:-//ChamberMaster//Event Calendar 2.0//EN
METHOD:PUBLISH
X-PUBLISHED-TTL:P3D
REFRESH-INTERVAL:P3D
CALSCALE:GREGORIAN
BEGIN:VEVENT
DTSTART;VALUE=DATE:20211204
DTEND;VALUE=DATE:20211205
TRANSP:TRANSPARENT
X-MICROSOFT-CDO-ALLDAYEVENT:TRUE
SUMMARY:Sunrise Orchard Christmas Celebration
DESCRIPTION:Christmas Celebration & Craft Sale at Sunrise Orchards. Ho! Ho! Ho! Come visit Santa\, from 11 am - 3 pm. Free cookies\, coffee\, and apple cider provided by Santa. Enjoy holiday music\, an Arts and Crafts sale by local vendors\, and a kid's coloring contest with a chance to win a Sunrise Orchard's gift certificate! Create your own holiday gift baskets with our apples\, specialty food products and cheeses. Open 9 am - 4 pm\, Sunrise Orchards\, 48340 State Highway 171\, Gays Mills\, WI. 608-735-4645\, www.sunriseapples.com.
X-ALT-DESC;FMTTYPE=text/html:Christmas Celebration &amp\; Craft Sale at Sunrise Orchards. Ho! Ho! Ho! Come visit Santa\, from 11 am - 3 pm. Free cookies\, coffee\, and apple cider provided by Santa. Enjoy holiday music\, an Arts and Crafts sale by local vendors\, and a kid&rsquo\;s coloring contest with a chance to win a Sunrise Orchard&rsquo\;s gift certificate! Create your own holiday gift baskets with our apples\, specialty food products and cheeses. Open 9 am - 4 pm\, Sunrise Orchards\, 48340 State Highway 171\, Gays Mills\, WI. 608-735-4645\, www.sunriseapples.com.<br />\n
LOCATION:
UID:e.1604.9107
SEQUENCE:3
DTSTAMP:20260422T195508Z
URL:https://business.prairieduchien.org/events/details/sunrise-orchard-christmas-celebration-9107
END:VEVENT

END:VCALENDAR
