BEGIN:VCALENDAR
VERSION:2.0
PRODID:-//ChamberMaster//Event Calendar 2.0//EN
METHOD:PUBLISH
X-PUBLISHED-TTL:P3D
REFRESH-INTERVAL:P3D
CALSCALE:GREGORIAN
BEGIN:VEVENT
DTSTART:20220625T140000Z
DTEND:20220625T210000Z
X-MICROSOFT-CDO-ALLDAYEVENT:FALSE
SUMMARY:Spook Cave Color Run
DESCRIPTION:All Ages Welcome! All proceeds will go towards a picnic shelter for the Campground. $25 Fee per person\, includes shirt. Fun and splashes of color throughout the race. Medals will be given. Sign up today by emailing spookcave@spookcave.com
X-ALT-DESC;FMTTYPE=text/html:All Ages Welcome! All proceeds will go towards a picnic shelter for the Campground. $25 Fee per person\, includes shirt. Fun and splashes of color throughout the race. Medals will be given. Sign up today by emailing spookcave@spookcave.com
LOCATION:
UID:e.1604.10110
SEQUENCE:3
DTSTAMP:20260424T022650Z
URL:https://business.prairieduchien.org/events/details/spook-cave-color-run-10110
END:VEVENT

END:VCALENDAR
