BEGIN:VCALENDAR
VERSION:2.0
PRODID:-//ChamberMaster//Event Calendar 2.0//EN
METHOD:PUBLISH
X-PUBLISHED-TTL:P3D
REFRESH-INTERVAL:P3D
CALSCALE:GREGORIAN
BEGIN:VEVENT
DTSTART:20231028T230000Z
DTEND:20231029T010000Z
X-MICROSOFT-CDO-ALLDAYEVENT:FALSE
SUMMARY:Spiritualism in the Victorian Era
DESCRIPTION:Experience Villa Louis in a new\, spine-tingling way! Victorians were fascinated by death and finding ways to connect with their former friends and loved ones through the "Great Beyond." Explore this paranormal proclivity in the beautiful spaces of our National Historic Landmark mansion. Enjoy a tasty cordial and hear tales of the Fox sisters\, credited with the creation of the spiritualist movement in America\, and learn about Whitewater's Morris Pratt Institute\, the country's first spiritualist school. Enjoy an after-dinner cordial and petit fours. This event also includes a special behind-the-scenes look of the mansion and spiritualist objects once owned by Mrs. Dousman not usually on display. 6pm   8pm For more information visit www.villalouis.org or call Villa Louis at 608-326-2721. For ticketing questions please contact the Wisconsin Historical Society Box Office at 608-264-4848 or boxoffice@wisconsinhistory.org.
X-ALT-DESC;FMTTYPE=text/html:<a name="_Hlk119317490"><span style="font-family:calibri\,sans-serif\;">Experience Villa Louis in a new\, spine-tingling way! Victorians were fascinated by death and finding ways to connect with their former friends and loved ones through the &quot\;Great Beyond.&quot\; Explore this paranormal proclivity in the beautiful spaces of our National Historic Landmark mansion. Enjoy a tasty cordial and hear tales of the Fox sisters\, credited with the creation of the spiritualist movement in America\, and learn about Whitewater&#39\;s Morris Pratt Institute\, the country&#39\;s first spiritualist school. Enjoy an after-dinner cordial and petit fours. This event also includes a special behind-the-scenes look of the mansion and spiritualist objects once owned by Mrs. Dousman not usually on display. 6pm &ndash\; 8pm</span> </a><span style="font-family:calibri\,sans-serif\;">For more information visit </span><a href="http://www.villalouis.org/"><span style="font-family:calibri\,sans-serif\;">www.villalouis.org</span></a><span style="font-family:calibri\,sans-serif\;"> or call Villa Louis at 608-326-2721. For ticketing questions </span><span style="background:white\;"><span style="color:#050505\;"><span style="font-family:calibri\,sans-serif\;">please contact the Wisconsin Historical Society Box Office at 608-264-4848 or boxoffice@wisconsinhistory.org.</span></span></span>
LOCATION:
UID:e.1604.10297
SEQUENCE:3
DTSTAMP:20260422T105712Z
URL:https://business.prairieduchien.org/events/details/spiritualism-in-the-victorian-era-10297
END:VEVENT

END:VCALENDAR
