BEGIN:VCALENDAR
VERSION:2.0
PRODID:-//ChamberMaster//Event Calendar 2.0//EN
METHOD:PUBLISH
X-PUBLISHED-TTL:P3D
REFRESH-INTERVAL:P3D
CALSCALE:GREGORIAN
BEGIN:VEVENT
DTSTART;VALUE=DATE:20240210
DTEND;VALUE=DATE:20240211
TRANSP:TRANSPARENT
X-MICROSOFT-CDO-ALLDAYEVENT:TRUE
SUMMARY:Sny Magill Fisheree
DESCRIPTION:McGregor IA\, 563-873-2258
X-ALT-DESC;FMTTYPE=text/html:<span style="font-family:arial\,sans-serif\;"><span style="font-size:12.0pt\;">McGregor IA\, 563-873-2258</span></span>
LOCATION:
UID:e.1604.10412
SEQUENCE:3
DTSTAMP:20260422T154153Z
URL:https://business.prairieduchien.org/events/details/sny-magill-fisheree-10412
END:VEVENT

END:VCALENDAR
