BEGIN:VCALENDAR
VERSION:2.0
PRODID:-//ChamberMaster//Event Calendar 2.0//EN
METHOD:PUBLISH
X-PUBLISHED-TTL:P3D
REFRESH-INTERVAL:P3D
CALSCALE:GREGORIAN
BEGIN:VEVENT
DTSTART;VALUE=DATE:20230930
DTEND;VALUE=DATE:20231002
TRANSP:TRANSPARENT
X-MICROSOFT-CDO-ALLDAYEVENT:TRUE
SUMMARY:Shihata’s Orchard Fest
DESCRIPTION:Visit the Apple House with 19 varieties of apples\, jams & jellies\, award winning cider\, pumpkins\, Wisconsin wine\, cheese and sausage. Weekend outing of family fun with wagon rides in the orchard\, U-pick apple\, Country Fun Park\, and The Pumpkin Patch. Free samples of many Apple House products. 608-326-2785.
X-ALT-DESC;FMTTYPE=text/html:<span style="color:black\;"><span style="font-family:arial\,sans-serif\;">Visit the Apple House with 19 varieties of apples\, jams &amp\; jellies\, award winning cider\, pumpkins\, Wisconsin wine\, cheese and sausage. Weekend outing of family fun with wagon rides in the orchard\, U-pick apple\, Country Fun Park\, and The Pumpkin Patch. Free samples of many Apple House products.&nbsp\;</span></span><span style="color: rgb(0\, 0\, 0)\; font-family: arial\, sans-serif\;">608-326-2785.</span>
LOCATION:six miles north of Prairie du Chien on Hwy 27\, left on Limery Road.
UID:e.1604.10283
SEQUENCE:3
DTSTAMP:20260422T105410Z
URL:https://business.prairieduchien.org/events/details/shihata-s-orchard-fest-10283
END:VEVENT

END:VCALENDAR
