BEGIN:VCALENDAR
VERSION:2.0
PRODID:-//ChamberMaster//Event Calendar 2.0//EN
METHOD:PUBLISH
X-PUBLISHED-TTL:P3D
REFRESH-INTERVAL:P3D
CALSCALE:GREGORIAN
BEGIN:VEVENT
DTSTART;VALUE=DATE:20220312
DTEND;VALUE=DATE:20220313
TRANSP:TRANSPARENT
X-MICROSOFT-CDO-ALLDAYEVENT:TRUE
SUMMARY:Shamrock Shuffle
DESCRIPTION:5K\, 3.1 mile fun run/walk. Registration from 7 -7:40 am. Race starts at 7:45. Held at Hoffman Hall Prairie du Chien\, Contact Prairie du Chien Park & Rec. 608-26-7207.
X-ALT-DESC;FMTTYPE=text/html:<span style="font-family:arial\,sans-serif\;"><span style="font-size:12.0pt\;">5K\, 3.1 mile fun run/walk. Registration from 7 -7:40 am. Race starts at 7:45. Held at Hoffman Hall Prairie du Chien\, Contact Prairie du Chien Park &amp\; Rec. 608-26-7207.</span></span>
LOCATION:
UID:e.1604.9539
SEQUENCE:3
DTSTAMP:20260422T220344Z
URL:https://business.prairieduchien.org/events/details/shamrock-shuffle-9539
END:VEVENT

END:VCALENDAR
