BEGIN:VCALENDAR
VERSION:2.0
PRODID:-//ChamberMaster//Event Calendar 2.0//EN
METHOD:PUBLISH
X-PUBLISHED-TTL:P3D
REFRESH-INTERVAL:P3D
CALSCALE:GREGORIAN
BEGIN:VEVENT
DTSTART:20240316T120000Z
DTEND:20240316T170000Z
X-MICROSOFT-CDO-ALLDAYEVENT:FALSE
SUMMARY:Shamrock Shuffle
DESCRIPTION:5K\, 3.1 mile fun run/walk. Registration from 7 -7:40 am. Race starts at 7:45. Held at Hoffman Hall\, 1600 S. Wacouta Ave\, Prairie du Chien. Prairie du Chien Park & Rec. 608-326-7207.
X-ALT-DESC;FMTTYPE=text/html:<span style="font-family:arial\,sans-serif\;"><span style="font-size:12.0pt\;">5K\, 3.1 mile fun run/walk. Registration from 7 -7:40 am. Race starts at 7:45. Held at Hoffman Hall\, 1600 S. Wacouta Ave\, Prairie du Chien. Prairie du Chien Park &amp\; Rec. 608-326-7207.</span></span>
LOCATION:
UID:e.1604.10417
SEQUENCE:3
DTSTAMP:20260422T175052Z
URL:https://business.prairieduchien.org/events/details/shamrock-shuffle-10417
END:VEVENT

END:VCALENDAR
