BEGIN:VCALENDAR
VERSION:2.0
PRODID:-//ChamberMaster//Event Calendar 2.0//EN
METHOD:PUBLISH
X-PUBLISHED-TTL:P3D
REFRESH-INTERVAL:P3D
CALSCALE:GREGORIAN
BEGIN:VEVENT
DTSTART:20231014T153000Z
DTEND:20231014T170000Z
X-MICROSOFT-CDO-ALLDAYEVENT:FALSE
SUMMARY:Riverfront Walking Tour
DESCRIPTION:Riverfront Walking Tour: The Many Cultures of Early Prairie du Chien\, Villa Louis Historic Site offers a walking tour through the site of the old Main Village of Prairie du Chien.  The tour will begin in the Brisbois Fur Warehouse and then continue with a walk on the grounds where these people lived and many events important to the history of Wisconsin happened. Visitors will see the sites and hear these peoples' stories. Advanced registration required. The tour starts at 10:30 a.m. and lasts approximately 90 minutes and requires walking on uneven ground. For more information visit www.villalouis.org or call Villa Louis at 608-326-2721. For ticketing questions please contact the Wisconsin Historical Society Box Office at 608-264-4848 or boxoffice@wisconsinhistory.org.
X-ALT-DESC;FMTTYPE=text/html:<strong><span style="background:white\;"><span style="font-family:calibri\,sans-serif\;">Riverfront Walking Tour: The Many Cultures of Early Prairie du Chien\, </span></span></strong><span style="background:white\;"><span style="font-family:calibri\,sans-serif\;">Villa Louis Historic Site offers a walking tour through the site of the old Main Village of Prairie du Chien.&nbsp\; The tour will begin in the Brisbois Fur Warehouse and then continue with a walk on the grounds where these people lived and many events important to the history of Wisconsin happened. Visitors will see the sites and hear these peoples&rsquo\; stories. Advanced registration required. The tour starts at 10:30 a.m. and lasts approximately 90 minutes and requires walking on uneven ground. </span></span><span style="font-family:calibri\,sans-serif\;">For more information visit </span><a href="http://www.villalouis.org/"><span style="font-family:calibri\,sans-serif\;">www.villalouis.org</span></a><span style="font-family:calibri\,sans-serif\;"> or call Villa Louis at 608-326-2721. For ticketing questions </span><span style="background:white\;"><span style="color:#050505\;"><span style="font-family:calibri\,sans-serif\;">please contact the Wisconsin Historical Society Box Office at 608-264-4848 or boxoffice@wisconsinhistory.org.</span></span></span>
LOCATION:Guided walking tour begins at the Brisbois Fur Warehouse at Villa Louis Historic Site\, 521 North Villa Louis Road Prairie du Chien\, WI
UID:e.1604.10294
SEQUENCE:3
DTSTAMP:20260422T105108Z
URL:https://business.prairieduchien.org/events/details/riverfront-walking-tour-10294
END:VEVENT

END:VCALENDAR
