BEGIN:VCALENDAR
VERSION:2.0
PRODID:-//ChamberMaster//Event Calendar 2.0//EN
METHOD:PUBLISH
X-PUBLISHED-TTL:P3D
REFRESH-INTERVAL:P3D
CALSCALE:GREGORIAN
BEGIN:VEVENT
DTSTART;VALUE=DATE:20220429
DTEND;VALUE=DATE:20220501
TRANSP:TRANSPARENT
X-MICROSOFT-CDO-ALLDAYEVENT:TRUE
SUMMARY:Quilt the Days Away
DESCRIPTION:If you are a beginner quilter or an advanced quilter\, this event will be an enjoyable one for you. For information call Janet Paulson at 608-326-2526
X-ALT-DESC;FMTTYPE=text/html:<span style="color:windowtext\;"><span style="font-family:arial\,sans-serif\;">If you are a beginner quilter or an advanced quilter\, this event will be an enjoyable one for you. For information call Janet Paulson at 608-326-2526</span></span>
LOCATION:Hoffman Hall 1600 S. Wacouta Ave\, Prairie du Chien.
UID:e.1604.9546
SEQUENCE:3
DTSTAMP:20260422T230638Z
URL:https://business.prairieduchien.org/events/details/quilt-the-days-away-9546
END:VEVENT

END:VCALENDAR
