BEGIN:VCALENDAR
VERSION:2.0
PRODID:-//ChamberMaster//Event Calendar 2.0//EN
METHOD:PUBLISH
X-PUBLISHED-TTL:P3D
REFRESH-INTERVAL:P3D
CALSCALE:GREGORIAN
BEGIN:VEVENT
DTSTART;VALUE=DATE:20211203
DTEND;VALUE=DATE:20211204
TRANSP:TRANSPARENT
X-MICROSOFT-CDO-ALLDAYEVENT:TRUE
SUMMARY:Prairie du Chien Holiday Parade
DESCRIPTION:Downtown Prairie du Chien along Blackhawk Ave beginning at 5:30 pm.
X-ALT-DESC;FMTTYPE=text/html:Downtown Prairie du Chien along Blackhawk Ave beginning at 5:30 pm.
LOCATION:
UID:e.1604.9106
SEQUENCE:3
DTSTAMP:20260422T185432Z
URL:https://business.prairieduchien.org/events/details/prairie-du-chien-holiday-parade-9106
END:VEVENT

END:VCALENDAR
