BEGIN:VCALENDAR
VERSION:2.0
PRODID:-//ChamberMaster//Event Calendar 2.0//EN
METHOD:PUBLISH
X-PUBLISHED-TTL:P3D
REFRESH-INTERVAL:P3D
CALSCALE:GREGORIAN
BEGIN:VEVENT
DTSTART;VALUE=DATE:20220421
DTEND;VALUE=DATE:20220425
TRANSP:TRANSPARENT
X-MICROSOFT-CDO-ALLDAYEVENT:TRUE
SUMMARY:Prairie du Chien City-Wide Garage Sales
DESCRIPTION:Maps available two days prior at the Wisconsin-Iowa Shopping News. 405 N. Marquette Road\, Prairie du Chien\, WI. 608-326-2457.
X-ALT-DESC;FMTTYPE=text/html:<span style="color:black\;"><span style="font-family:arial\,sans-serif\;">Maps available two days prior at the Wisconsin-Iowa Shopping News. 405 N. Marquette Road\, Prairie du Chien\, WI. 608-326-2457.</span></span>
LOCATION:
UID:e.1604.9543
SEQUENCE:3
DTSTAMP:20260422T231804Z
URL:https://business.prairieduchien.org/events/details/prairie-du-chien-city-wide-garage-sales-9543
END:VEVENT

END:VCALENDAR
