BEGIN:VCALENDAR
VERSION:2.0
PRODID:-//ChamberMaster//Event Calendar 2.0//EN
METHOD:PUBLISH
X-PUBLISHED-TTL:P3D
REFRESH-INTERVAL:P3D
CALSCALE:GREGORIAN
BEGIN:VEVENT
DTSTART;VALUE=DATE:20230914
DTEND;VALUE=DATE:20230918
TRANSP:TRANSPARENT
X-MICROSOFT-CDO-ALLDAYEVENT:TRUE
SUMMARY:Prairie du Chien City Wide Garage Sales
DESCRIPTION:Listings available two days prior at the Shopping News\, 405 North Marquette Road\, PdC. Phone 608-326-2457
X-ALT-DESC;FMTTYPE=text/html:Listings available two days prior at the Shopping News\, 405 North Marquette Road\, PdC. Phone 608-326-2457
LOCATION:Various locations in Prairie du Chien
UID:e.1604.10270
SEQUENCE:3
DTSTAMP:20260422T094800Z
URL:https://business.prairieduchien.org/events/details/prairie-du-chien-city-wide-garage-sales-10270
END:VEVENT

END:VCALENDAR
