BEGIN:VCALENDAR
VERSION:2.0
PRODID:-//ChamberMaster//Event Calendar 2.0//EN
METHOD:PUBLISH
X-PUBLISHED-TTL:P3D
REFRESH-INTERVAL:P3D
CALSCALE:GREGORIAN
BEGIN:VEVENT
DTSTART:20220422T160000Z
DTEND:20220423T000000Z
X-MICROSOFT-CDO-ALLDAYEVENT:FALSE
SUMMARY:Pete's Hamburger Stand Opens
DESCRIPTION:Open Fridays\, Saturdays & Sundays 11 a.m. to 7 p.m.
X-ALT-DESC;FMTTYPE=text/html:Open Fridays\, Saturdays &amp\; Sundays 11 a.m. to 7 p.m.
LOCATION:
UID:e.1604.10108
SEQUENCE:3
DTSTAMP:20260422T230509Z
URL:https://business.prairieduchien.org/events/details/pete-s-hamburger-stand-opens-10108
END:VEVENT

END:VCALENDAR
