BEGIN:VCALENDAR
VERSION:2.0
PRODID:-//ChamberMaster//Event Calendar 2.0//EN
METHOD:PUBLISH
X-PUBLISHED-TTL:P3D
REFRESH-INTERVAL:P3D
CALSCALE:GREGORIAN
BEGIN:VEVENT
DTSTART;VALUE=DATE:20230524
DTEND;VALUE=DATE:20230525
TRANSP:TRANSPARENT
X-MICROSOFT-CDO-ALLDAYEVENT:TRUE
SUMMARY:Mississippi River Tours Starts
DESCRIPTION:Open boarding on Maiden Voyage Tours\, 90-minute river cruise leaving the Marquette riverfront. Book online at www.MVTours.us or call 563-880-8970.
X-ALT-DESC;FMTTYPE=text/html:<span style="color:windowtext\;"><span style="font-family:arial\,sans-serif\;">Open boarding on Maiden Voyage Tours\, 90-minute river cruise leaving the Marquette riverfront. Book online at </span></span><a href="http://www.mvtours.us/"><span style="color:windowtext\;"><span style="font-family:arial\,sans-serif\;">www.MVTours.us</span></span></a><span style="color:windowtext\;"><span style="font-family:arial\,sans-serif\;"> or call 563-880-8970.</span></span>
LOCATION:Located under the bridge in Marquette\, Iowa\, two minutes from Prairie du Chien.
UID:e.1604.10201
SEQUENCE:3
DTSTAMP:20260425T105047Z
URL:https://business.prairieduchien.org/events/details/mississippi-river-tours-starts-10201
END:VEVENT

END:VCALENDAR
