BEGIN:VCALENDAR
VERSION:2.0
PRODID:-//ChamberMaster//Event Calendar 2.0//EN
METHOD:PUBLISH
X-PUBLISHED-TTL:P3D
REFRESH-INTERVAL:P3D
CALSCALE:GREGORIAN
BEGIN:VEVENT
DTSTART:20230930T180000Z
DTEND:20230930T210000Z
X-MICROSOFT-CDO-ALLDAYEVENT:FALSE
SUMMARY:Live Music: Beau Timmerman
DESCRIPTION:Live Music: Beau Timmerman. 1 pm - 4 pm\, free wine tasting\, Eagles Landing Winery\, Marquette\, IA. 563-873-1905.
X-ALT-DESC;FMTTYPE=text/html:<span style="font-size:14px\;"><span style="color:windowtext\;"><span style="font-family:arial\,sans-serif\;">Live Music:</span></span> <span style="font-family:arial\,sans-serif\;">Beau Timmerman</span><span style="color:windowtext\;"><span style="font-family:arial\,sans-serif\;">.</span></span><span style="color:windowtext\;"><span style="font-family:arial\,sans-serif\;"> 1 pm - 4 pm\, free wine tasting\, Eagles Landing Winery\, Marquette\, IA. 563-873-1905.</span></span>&nbsp\;</span>
LOCATION:
UID:e.1604.10278
SEQUENCE:3
DTSTAMP:20260420T081703Z
URL:https://business.prairieduchien.org/events/details/live-music-beau-timmerman-10278
END:VEVENT

END:VCALENDAR
