BEGIN:VCALENDAR
VERSION:2.0
PRODID:-//ChamberMaster//Event Calendar 2.0//EN
METHOD:PUBLISH
X-PUBLISHED-TTL:P3D
REFRESH-INTERVAL:P3D
CALSCALE:GREGORIAN
BEGIN:VEVENT
DTSTART:20250510T180000Z
DTEND:20250510T210000Z
X-MICROSOFT-CDO-ALLDAYEVENT:FALSE
SUMMARY:Live Music
DESCRIPTION:Live Music\, 1-4 pm\, free wine tasting & stone-fired pizza all day. Eagles Landing Winery\, Marquette\, IA. 563-873-1905.
X-ALT-DESC;FMTTYPE=text/html:<strong><span style="font-size:8.5pt\;">Live Music\, </span></strong>1-4 pm\, free wine tasting &amp\; stone-fired pizza all day. Eagles Landing Winery\, Marquette\, IA. 563-873-1905.
LOCATION:
UID:e.1604.10667
SEQUENCE:3
DTSTAMP:20260422T083345Z
URL:https://business.prairieduchien.org/events/details/live-music-05-10-2025-10667
END:VEVENT

END:VCALENDAR
