BEGIN:VCALENDAR
VERSION:2.0
PRODID:-//ChamberMaster//Event Calendar 2.0//EN
METHOD:PUBLISH
X-PUBLISHED-TTL:P3D
REFRESH-INTERVAL:P3D
CALSCALE:GREGORIAN
BEGIN:VEVENT
DTSTART:20220423T140000Z
DTEND:20220423T210000Z
X-MICROSOFT-CDO-ALLDAYEVENT:FALSE
SUMMARY:Indoor Flea Market.
DESCRIPTION:Over 40 vendors\, 9 am - 4 pm Hoffman Hall\, Prairie du Chien\, sponsored by Park & Rec Department. 608-326-7207. Fundraiser for Hoffman Hall and PDC Skateboard Park.
X-ALT-DESC;FMTTYPE=text/html:<span style="color:windowtext\;"><span style="font-family:arial\,sans-serif\;">Over 40 vendors\, 9 am - 4 pm Hoffman Hall\, Prairie du Chien\, sponsored by Park &amp\; Rec Department. 608-326-7207. Fundraiser for Hoffman Hall and PDC Skateboard Park.</span></span>
LOCATION:Hoffman Hall\, 1600 S. Wacouta Ave\, Prairie du Chien\, WI
UID:e.1604.9544
SEQUENCE:3
DTSTAMP:20260422T230621Z
URL:https://business.prairieduchien.org/events/details/indoor-flea-market-9544
END:VEVENT

END:VCALENDAR
