BEGIN:VCALENDAR
VERSION:2.0
PRODID:-//ChamberMaster//Event Calendar 2.0//EN
METHOD:PUBLISH
X-PUBLISHED-TTL:P3D
REFRESH-INTERVAL:P3D
CALSCALE:GREGORIAN
BEGIN:VEVENT
DTSTART;VALUE=DATE:20231201
DTEND;VALUE=DATE:20231202
TRANSP:TRANSPARENT
X-MICROSOFT-CDO-ALLDAYEVENT:TRUE
SUMMARY:Holiday Parade
DESCRIPTION:Downtown Prairie du Chien along Blackhawk Ave. 608-326-8555.
X-ALT-DESC;FMTTYPE=text/html:<span style="color:windowtext\;"><span style="font-family:arial\,sans-serif\;">Downtown Prairie du Chien along Blackhawk Ave. 608-326-8555.</span></span>
LOCATION:
UID:e.1604.10303
SEQUENCE:3
DTSTAMP:20260422T142728Z
URL:https://business.prairieduchien.org/events/details/holiday-parade-10303
END:VEVENT

END:VCALENDAR
