BEGIN:VCALENDAR
VERSION:2.0
PRODID:-//ChamberMaster//Event Calendar 2.0//EN
METHOD:PUBLISH
X-PUBLISHED-TTL:P3D
REFRESH-INTERVAL:P3D
CALSCALE:GREGORIAN
BEGIN:VEVENT
DTSTART:20231202T060000Z
DTEND:20231202T210000Z
X-MICROSOFT-CDO-ALLDAYEVENT:FALSE
SUMMARY:Holiday Market & Craft Event
DESCRIPTION:Holiday Market and Craft Event Super Christmas Shopping\, food\, buy local. 9 am   3 pm. Ferryville Village Hall. 920.210.4560 / VisitFerryville.com.
X-ALT-DESC;FMTTYPE=text/html:<strong><span style="font-family:calibri\,sans-serif\;"><span style="font-size:12.0pt\;">Holiday Market and Craft Event </span></span></strong><span style="color:black\;"><span style="font-family:calibri\,sans-serif\;"><span style="font-size:11.0pt\;">Super Christmas Shopping\, food\, buy local. 9 am &ndash\; 3 pm. Ferryville Village Hall. 920.210.4560 / VisitFerryville.com.</span></span></span>
LOCATION:
UID:e.1604.10305
SEQUENCE:3
DTSTAMP:20260422T132517Z
URL:https://business.prairieduchien.org/events/details/holiday-market-craft-event-10305
END:VEVENT

END:VCALENDAR
