BEGIN:VCALENDAR
VERSION:2.0
PRODID:-//ChamberMaster//Event Calendar 2.0//EN
METHOD:PUBLISH
X-PUBLISHED-TTL:P3D
REFRESH-INTERVAL:P3D
CALSCALE:GREGORIAN
BEGIN:VEVENT
DTSTART;VALUE=DATE:20260411
DTEND;VALUE=DATE:20260412
TRANSP:TRANSPARENT
X-MICROSOFT-CDO-ALLDAYEVENT:TRUE
SUMMARY:Highland Hoolie
DESCRIPTION:Highland Hoolie\, all day. Music\, drinking games\, and fun as part of McGregor's Scottish Heritage Days. Eagles Landing Winery\, Marquette IA. 563-873-1905.
X-ALT-DESC;FMTTYPE=text/html:<strong><span style="color:black\;"><span style="font-family:calibri\,sans-serif\;"><span style="font-size:11.0pt\;">Highland Hoolie</span></span></span></strong><span style="color:black\;"><span style="font-family:calibri\,sans-serif\;"><span style="font-size:11.0pt\;">\, all day. Music\, drinking games\, and fun as part of McGregor&#39\;s Scottish Heritage Days. Eagles Landing Winery\, Marquette IA. 563-873-1905.</span></span></span>
LOCATION:Eagles Landing Winery\, Marquette IA
UID:e.1604.11114
SEQUENCE:3
DTSTAMP:20260419T163515Z
URL:https://business.prairieduchien.org/events/details/highland-hoolie-11114
END:VEVENT

END:VCALENDAR
