BEGIN:VCALENDAR
VERSION:2.0
PRODID:-//ChamberMaster//Event Calendar 2.0//EN
METHOD:PUBLISH
X-PUBLISHED-TTL:P3D
REFRESH-INTERVAL:P3D
CALSCALE:GREGORIAN
BEGIN:VEVENT
DTSTART;VALUE=DATE:20211023
DTEND;VALUE=DATE:20211024
TRANSP:TRANSPARENT
X-MICROSOFT-CDO-ALLDAYEVENT:TRUE
SUMMARY:Haunted Halls of Terror
DESCRIPTION:Haunted house attraction on St. Feriole Island\, Prairie du Chien. 7 pm - 10:30 pm each night. Sponsored by Scream Extreme.
X-ALT-DESC;FMTTYPE=text/html:Haunted house attraction on St. Feriole Island\, Prairie du Chien. 7 pm - 10:30 pm each night. Sponsored by Scream Extreme.
LOCATION:
UID:e.1604.9093
SEQUENCE:3
DTSTAMP:20260422T165431Z
URL:https://business.prairieduchien.org/events/details/haunted-halls-of-terror-10-23-2021-9093
END:VEVENT

END:VCALENDAR
