BEGIN:VCALENDAR
VERSION:2.0
PRODID:-//ChamberMaster//Event Calendar 2.0//EN
METHOD:PUBLISH
X-PUBLISHED-TTL:P3D
REFRESH-INTERVAL:P3D
CALSCALE:GREGORIAN
BEGIN:VEVENT
DTSTART:20210505T180000Z
DTEND:20210505T220000Z
X-MICROSOFT-CDO-ALLDAYEVENT:FALSE
SUMMARY:Gays Mills Farmers Market
DESCRIPTION:
X-ALT-DESC;FMTTYPE=text/html:
LOCATION:Lions Shelter Park\, Gays Mills
UID:e.1604.8862
SEQUENCE:3
DTSTAMP:20260421T014222Z
URL:https://business.prairieduchien.org/events/details/gays-mills-farmers-market-8862
END:VEVENT

END:VCALENDAR
