BEGIN:VCALENDAR
VERSION:2.0
PRODID:-//ChamberMaster//Event Calendar 2.0//EN
METHOD:PUBLISH
X-PUBLISHED-TTL:P3D
REFRESH-INTERVAL:P3D
CALSCALE:GREGORIAN
BEGIN:VEVENT
DTSTART;VALUE=DATE:20230930
DTEND;VALUE=DATE:20231002
TRANSP:TRANSPARENT
X-MICROSOFT-CDO-ALLDAYEVENT:TRUE
SUMMARY:Froelich 1890's Village Museum Tours
DESCRIPTION:Home of first gas propelled tractor   1892. Open Saturday 10 am - 5 pm and Sunday 11 am - 5 pm. Admission charge. 24397 Froelich Road\, McGregor\, IA\, (four miles east of Monona\, IA)
X-ALT-DESC;FMTTYPE=text/html:Home of first gas propelled tractor &ndash\; 1892. Open Saturday 10 am - 5 pm and Sunday 11 am - 5 pm. Admission charge. 24397 Froelich Road\, McGregor\, IA\, (four miles east of Monona\, IA)&nbsp\;
LOCATION:
UID:e.1604.10281
SEQUENCE:3
DTSTAMP:20260422T105633Z
URL:https://business.prairieduchien.org/events/details/froelich-1890-s-village-museum-tours-10281
END:VEVENT

END:VCALENDAR
