BEGIN:VCALENDAR
VERSION:2.0
PRODID:-//ChamberMaster//Event Calendar 2.0//EN
METHOD:PUBLISH
X-PUBLISHED-TTL:P3D
REFRESH-INTERVAL:P3D
CALSCALE:GREGORIAN
BEGIN:VEVENT
DTSTART;VALUE=DATE:20220624
DTEND;VALUE=DATE:20220625
TRANSP:TRANSPARENT
X-MICROSOFT-CDO-ALLDAYEVENT:TRUE
SUMMARY:“Fridays at the Fort”
DESCRIPTION:Free program for families and children. 608-326-6960. Free will offering. Calls for details.
X-ALT-DESC;FMTTYPE=text/html:<span style="color:windowtext\;"><span style="font-family:arial\,sans-serif\;">Free program for families and children. 608-326-6960. Free will offering. Calls for details.</span></span>
LOCATION:Fort Crawford Museum 717 S. Beaumont Rd Prairie du Chien\, WI
UID:e.1604.10020
SEQUENCE:3
DTSTAMP:20260424T033355Z
URL:https://business.prairieduchien.org/events/details/fridays-at-the-fort-10020
END:VEVENT

END:VCALENDAR
