BEGIN:VCALENDAR
VERSION:2.0
PRODID:-//ChamberMaster//Event Calendar 2.0//EN
METHOD:PUBLISH
X-PUBLISHED-TTL:P3D
REFRESH-INTERVAL:P3D
CALSCALE:GREGORIAN
BEGIN:VEVENT
DTSTART:20220630T233000Z
DTEND:20220701T010000Z
X-MICROSOFT-CDO-ALLDAYEVENT:FALSE
SUMMARY:Free Summer “Concerts in the Park” series
DESCRIPTION:Held each Thursday evening on the banks of the Mississippi River at Lawler Park's South Gazebo\, Prairie du Chien. Bring your lawn chair or blanket and snacks. Sponsored by the Prairie du Chien Park & Rec. 608-326-7207.
X-ALT-DESC;FMTTYPE=text/html:<span style="color:windowtext\;"><span style="font-family:arial\,sans-serif\;">Held each Thursday evening on the banks of the Mississippi River at Lawler Park&rsquo\;s South Gazebo\, Prairie du Chien. Bring your lawn chair or blanket and snacks. Sponsored by the Prairie du Chien Park &amp\; Rec. 608-326-7207.</span></span>
LOCATION:
UID:e.1604.9864
SEQUENCE:3
DTSTAMP:20260424T023119Z
URL:https://business.prairieduchien.org/events/details/free-summer-concerts-in-the-park-series-06-30-2022-9864
END:VEVENT

END:VCALENDAR
