BEGIN:VCALENDAR
VERSION:2.0
PRODID:-//ChamberMaster//Event Calendar 2.0//EN
METHOD:PUBLISH
X-PUBLISHED-TTL:P3D
REFRESH-INTERVAL:P3D
CALSCALE:GREGORIAN
BEGIN:VEVENT
DTSTART;VALUE=DATE:20260409
DTEND;VALUE=DATE:20260410
TRANSP:TRANSPARENT
X-MICROSOFT-CDO-ALLDAYEVENT:TRUE
SUMMARY:Fort Crawford History Talk
DESCRIPTION:Fort Crawford Museum History Talk: "Entertainment" that came to Prairie du Chien\, Held at the Prairie du Chien Area Arts Center\, 800 E. Crawford Street\, Prairie du Chien. For more information call the Fort at 608-326-6960.
X-ALT-DESC;FMTTYPE=text/html:<strong><span style="color:black\;"><span style="font-family:calibri\,sans-serif\;"><span style="font-size:11.0pt\;">Fort Crawford Museum History Talk: &ldquo\;Entertainment&rdquo\; that came to Prairie du Chien\, </span></span></span></strong><span style="color:black\;"><span style="font-family:calibri\,sans-serif\;"><span style="font-size:11.0pt\;">Held at the </span></span></span>Prairie du Chien Area Arts Center\, 800 E. Crawford Street\, Prairie du Chien<span style="color:black\;"><span style="font-family:calibri\,sans-serif\;"><span style="font-size:11.0pt\;">. For more information call the Fort at 608-326-6960.</span></span></span>
LOCATION:Prairie du Chien Area Arts Center\, 800 E. Crawford Street\, Prairie du Chien
UID:e.1604.11113
SEQUENCE:3
DTSTAMP:20260419T162854Z
URL:https://business.prairieduchien.org/events/details/fort-crawford-history-talk-11113
END:VEVENT

END:VCALENDAR
