BEGIN:VCALENDAR
VERSION:2.0
PRODID:-//ChamberMaster//Event Calendar 2.0//EN
METHOD:PUBLISH
X-PUBLISHED-TTL:P3D
REFRESH-INTERVAL:P3D
CALSCALE:GREGORIAN
BEGIN:VEVENT
DTSTART;VALUE=DATE:20231007
DTEND;VALUE=DATE:20231009
TRANSP:TRANSPARENT
X-MICROSOFT-CDO-ALLDAYEVENT:TRUE
SUMMARY:Flea Market Under the Bridge
DESCRIPTION:Flea Market under the Bridge. Food stand. Marquette\, IA.
X-ALT-DESC;FMTTYPE=text/html:Flea Market under the Bridge. Food stand. Marquette\, IA.
LOCATION:
UID:e.1604.10285
SEQUENCE:3
DTSTAMP:20260422T105306Z
URL:https://business.prairieduchien.org/events/details/flea-market-under-the-bridge-10285
END:VEVENT

END:VCALENDAR
