BEGIN:VCALENDAR
VERSION:2.0
PRODID:-//ChamberMaster//Event Calendar 2.0//EN
METHOD:PUBLISH
X-PUBLISHED-TTL:P3D
REFRESH-INTERVAL:P3D
CALSCALE:GREGORIAN
BEGIN:VEVENT
DTSTART;VALUE=DATE:20220617
DTEND;VALUE=DATE:20220620
TRANSP:TRANSPARENT
X-MICROSOFT-CDO-ALLDAYEVENT:TRUE
SUMMARY:Flea Market
DESCRIPTION:Located on St. Feriole Island along the Mississippi River\, Prairie du Chien. For vendor registration to the flea market write: Prairie du Chien Fire Association\, 720 E. Blackhawk Avenue\, Prairie du Chien\, WI 53821\, or call 608-379-4551 and leave your name and complete mailing address for registration to be mailed.
X-ALT-DESC;FMTTYPE=text/html:<span style="color:windowtext\;"><span style="font-family:arial\,sans-serif\;">Located on St. Feriole Island along the Mississippi River\, Prairie du Chien. For vendor registration to the flea market write: Prairie du Chien Fire Association\, 720 E. Blackhawk Avenue\, Prairie du Chien\, WI 53821\, or call 608-379-4551 and leave your name and complete mailing address for registration to be mailed.</span></span>
LOCATION:
UID:e.1604.9872
SEQUENCE:3
DTSTAMP:20260424T033216Z
URL:https://business.prairieduchien.org/events/details/flea-market-9872
END:VEVENT

END:VCALENDAR
