BEGIN:VCALENDAR
VERSION:2.0
PRODID:-//ChamberMaster//Event Calendar 2.0//EN
METHOD:PUBLISH
X-PUBLISHED-TTL:P3D
REFRESH-INTERVAL:P3D
CALSCALE:GREGORIAN
BEGIN:VEVENT
DTSTART:20231128T000000Z
DTEND:20231128T010000Z
X-MICROSOFT-CDO-ALLDAYEVENT:FALSE
SUMMARY:Ferryville Christmas Tree Lighting
DESCRIPTION:Christmas Tree Lighting\, Santa\, Christmas Carols & Treats. 6 pm   7 pm. Ferryville. 920.210.4560 / VisitFerryville.com.
X-ALT-DESC;FMTTYPE=text/html:Christmas Tree Lighting\,&nbsp\;<span style="color:black\;"><span style="font-family:calibri\,sans-serif\;">Santa\, Christmas Carols &amp\; Treats. 6 pm &ndash\; 7 pm. Ferryville. 920.210.4560 / VisitFerryville.com.</span></span>
LOCATION:
UID:e.1604.10302
SEQUENCE:3
DTSTAMP:20260422T120717Z
URL:https://business.prairieduchien.org/events/details/ferryville-christmas-tree-lighting-10302
END:VEVENT

END:VCALENDAR
