BEGIN:VCALENDAR
VERSION:2.0
PRODID:-//ChamberMaster//Event Calendar 2.0//EN
METHOD:PUBLISH
X-PUBLISHED-TTL:P3D
REFRESH-INTERVAL:P3D
CALSCALE:GREGORIAN
BEGIN:VEVENT
DTSTART:20240302T153000Z
DTEND:20240302T210000Z
X-MICROSOFT-CDO-ALLDAYEVENT:FALSE
SUMMARY:Ferryville Bald Eagle Day
DESCRIPTION:Ferryville Village Hall 9:30 am to 3 pm.  2 programs with live birds\, nest building\, crafts\, hooting contest. 608.734.9077 / VisitFerryville.com
X-ALT-DESC;FMTTYPE=text/html:<span style="font-family:arial\,sans-serif\;">Ferryville Village Hall 9:30 am to 3 pm.&nbsp\; 2</span> programs with live birds\, nest building\, crafts\, hooting contest. 608.734.9077 / VisitFerryville.com
LOCATION:
UID:e.1604.10415
SEQUENCE:3
DTSTAMP:20260422T165136Z
URL:https://business.prairieduchien.org/events/details/ferryville-bald-eagle-day-10415
END:VEVENT

END:VCALENDAR
