BEGIN:VCALENDAR
VERSION:2.0
PRODID:-//ChamberMaster//Event Calendar 2.0//EN
METHOD:PUBLISH
X-PUBLISHED-TTL:P3D
REFRESH-INTERVAL:P3D
CALSCALE:GREGORIAN
BEGIN:VEVENT
DTSTART:20230916T140000Z
DTEND:20230916T200000Z
X-MICROSOFT-CDO-ALLDAYEVENT:FALSE
SUMMARY:Fall Fest Mega Market
DESCRIPTION:Music and food at Ferryville Sugar Creek Park\, 9 am - 3 pm.
X-ALT-DESC;FMTTYPE=text/html:Music and food at Ferryville Sugar Creek Park\, 9 am - 3 pm.
LOCATION:
UID:e.1604.10272
SEQUENCE:3
DTSTAMP:20260422T093739Z
URL:https://business.prairieduchien.org/events/details/fall-fest-mega-market-10272
END:VEVENT

END:VCALENDAR
