BEGIN:VCALENDAR
VERSION:2.0
PRODID:-//ChamberMaster//Event Calendar 2.0//EN
METHOD:PUBLISH
X-PUBLISHED-TTL:P3D
REFRESH-INTERVAL:P3D
CALSCALE:GREGORIAN
BEGIN:VEVENT
DTSTART:20260411T150000Z
DTEND:20260411T170000Z
X-MICROSOFT-CDO-ALLDAYEVENT:FALSE
SUMMARY:Driftless Birders Program
DESCRIPTION:Driftless Birders Program for All\, "Lending Tweety a Helping Hand: A Workshop for Bird Lovers\," Craig Thompson\, 10am-noon\, Ferryville Village Hall
X-ALT-DESC;FMTTYPE=text/html:<strong><span style="color:black\;"><span style="font-family:calibri\,sans-serif\;"><span style="font-size:11.0pt\;">Driftless Birders Program for All</span></span></span></strong><span style="color:black\;"><span style="font-family:calibri\,sans-serif\;"><span style="font-size:11.0pt\;">\, &quot\;Lending Tweety a Helping Hand: A Workshop for Bird Lovers\,&rdquo\; Craig Thompson\, 10am-noon\, Ferryville Village Hall</span></span></span>
LOCATION:
UID:e.1604.11115
SEQUENCE:3
DTSTAMP:20260419T163504Z
URL:https://business.prairieduchien.org/events/details/driftless-birders-program-11115
END:VEVENT

END:VCALENDAR
