BEGIN:VCALENDAR
VERSION:2.0
PRODID:-//ChamberMaster//Event Calendar 2.0//EN
METHOD:PUBLISH
X-PUBLISHED-TTL:P3D
REFRESH-INTERVAL:P3D
CALSCALE:GREGORIAN
BEGIN:VEVENT
DTSTART:20230916T150000Z
DTEND:20230917T210000Z
X-MICROSOFT-CDO-ALLDAYEVENT:FALSE
SUMMARY:Driftless Area Art Festival
DESCRIPTION:Celebrating the Visual\, Performing\, and Culinary Arts of the Driftless Area.
X-ALT-DESC;FMTTYPE=text/html:Celebrating the Visual\, Performing\, and Culinary Arts of the Driftless Area.&nbsp\;&nbsp\;&nbsp\;&nbsp\;&nbsp\;&nbsp\;&nbsp\;&nbsp\;
LOCATION:Beauford T. Anderson Park 101 Church St Soldiers Grove\, WI
UID:e.1604.10393
SEQUENCE:3
DTSTAMP:20260422T105507Z
URL:https://business.prairieduchien.org/events/details/driftless-area-art-festival-10393
END:VEVENT

END:VCALENDAR
