BEGIN:VCALENDAR
VERSION:2.0
PRODID:-//ChamberMaster//Event Calendar 2.0//EN
METHOD:PUBLISH
X-PUBLISHED-TTL:P3D
REFRESH-INTERVAL:P3D
CALSCALE:GREGORIAN
BEGIN:VEVENT
DTSTART:20220604T110000Z
DTEND:20220604T160000Z
X-MICROSOFT-CDO-ALLDAYEVENT:FALSE
SUMMARY:Crawford County Dairy Breakfast
DESCRIPTION:Join us for the annual Crawford County Dairy Breakfast\, held at Nolan Family Farms on Saturday\, June 4 from 6-11 a.m. Breakfast will include pancakes\, sausage links\, cottage cheese\, cheese curds\, string cheese\, milk and more! Contact the Prairie du Chien Chamber office for more info 608-326-8555.
X-ALT-DESC;FMTTYPE=text/html:<span style="color:windowtext\;"><span style="font-family:arial\,sans-serif\;">Join us for the annual Crawford County Dairy Breakfast\, held at Nolan Family Farms on Saturday\, June 4 from 6-11 a.m. </span></span>Breakfast will include pancakes\, sausage links\, cottage cheese\, cheese curds\, string cheese\, milk and more!&nbsp\;<span style="color:windowtext\;"><span style="font-family:arial\,sans-serif\;">Contact the Prairie du Chien Chamber office for more info 608-326-8555.</span></span>
LOCATION:Nolan Family Farms 30990 Johns Lane Prairie du Chien
UID:e.1604.9857
SEQUENCE:3
DTSTAMP:20260424T022746Z
URL:https://business.prairieduchien.org/events/details/crawford-county-dairy-breakfast-9857
END:VEVENT

END:VCALENDAR
