BEGIN:VCALENDAR
VERSION:2.0
PRODID:-//ChamberMaster//Event Calendar 2.0//EN
METHOD:PUBLISH
X-PUBLISHED-TTL:P3D
REFRESH-INTERVAL:P3D
CALSCALE:GREGORIAN
BEGIN:VEVENT
DTSTART;VALUE=DATE:20211211
DTEND;VALUE=DATE:20211212
TRANSP:TRANSPARENT
X-MICROSOFT-CDO-ALLDAYEVENT:TRUE
SUMMARY:Christmas at the Fort
DESCRIPTION:"Christmas at the Fort."  Annual sale of homemade cookies and \n\ncandies.  Begins at 9:00 am.  Fort Crawford Museum 717 S. Beaumont Road.  Display of decorated Christmas trees through January 1\, 2022.
X-ALT-DESC;FMTTYPE=text/html:&ldquo\;Christmas at the Fort.&rdquo\;&nbsp\; Annual sale of homemade cookies and&nbsp\;<br />\ncandies.&nbsp\; Begins at 9:00 am.&nbsp\; Fort Crawford Museum 717 S. Beaumont Road.&nbsp\; Display of decorated Christmas trees through January 1\, 2022.<br />\n
LOCATION:
UID:e.1604.8857
SEQUENCE:3
DTSTAMP:20260422T185452Z
URL:https://business.prairieduchien.org/events/details/christmas-at-the-fort-8857
END:VEVENT

END:VCALENDAR
