BEGIN:VCALENDAR
VERSION:2.0
PRODID:-//ChamberMaster//Event Calendar 2.0//EN
METHOD:PUBLISH
X-PUBLISHED-TTL:P3D
REFRESH-INTERVAL:P3D
CALSCALE:GREGORIAN
BEGIN:VEVENT
DTSTART;VALUE=DATE:20231209
DTEND;VALUE=DATE:20231210
TRANSP:TRANSPARENT
X-MICROSOFT-CDO-ALLDAYEVENT:TRUE
SUMMARY:Christmas at the Fort
DESCRIPTION:Annual sale of homemade cookies and candies.  Fort Crawford Museum and store open for tours and holiday shopping. 608-326-6960.
X-ALT-DESC;FMTTYPE=text/html:<span style="font-size:14px\;"><span style="color:windowtext\;"><span style="font-family:arial\,sans-serif\;">Annual sale of homemade cookies and candies. </span></span><span style="color:windowtext\;"><span style="font-family:arial\,sans-serif\;">&nbsp\;Fort Crawford Museum and store open for tours and holiday shopping</span></span><span style="color:windowtext\;"><span style="font-family:arial\,sans-serif\;">. 608-326-6960</span></span><span style="color:gray\;"><span style="font-family:arial\,sans-serif\;">.</span></span></span>
LOCATION:Fort Crawford Museum 717 S. Beaumont Road Prairie du Chien\, WI.
UID:e.1604.10321
SEQUENCE:3
DTSTAMP:20260422T132042Z
URL:https://business.prairieduchien.org/events/details/christmas-at-the-fort-10321
END:VEVENT

END:VCALENDAR
