BEGIN:VCALENDAR
VERSION:2.0
PRODID:-//ChamberMaster//Event Calendar 2.0//EN
METHOD:PUBLISH
X-PUBLISHED-TTL:P3D
REFRESH-INTERVAL:P3D
CALSCALE:GREGORIAN
BEGIN:VEVENT
DTSTART;VALUE=DATE:20220608
DTEND;VALUE=DATE:20220609
TRANSP:TRANSPARENT
X-MICROSOFT-CDO-ALLDAYEVENT:TRUE
SUMMARY:Chautauqua Summer Series
DESCRIPTION:Jay Grimsled & Brian Sipos   Lock & Dam #9. 6:30 pm. Refreshments. Ferryville Village Hall. 608.734.9018. VisitFerryville.com.
X-ALT-DESC;FMTTYPE=text/html:<span style="color:windowtext\;"><span style="font-family:arial\,sans-serif\;">Jay Grimsled &amp\; Brian Sipos &ndash\; Lock &amp\; Dam #9. 6:30 pm. Refreshments. Ferryville Village Hall. 608.734.9018. VisitFerryville.com</span></span><span style="color:windowtext\;"><span style="font-family:arial\,sans-serif\;">.</span></span>
LOCATION:
UID:e.1604.9860
SEQUENCE:3
DTSTAMP:20260424T033400Z
URL:https://business.prairieduchien.org/events/details/chautauqua-summer-series-9860
END:VEVENT

END:VCALENDAR
