BEGIN:VCALENDAR
VERSION:2.0
PRODID:-//ChamberMaster//Event Calendar 2.0//EN
METHOD:PUBLISH
X-PUBLISHED-TTL:P3D
REFRESH-INTERVAL:P3D
CALSCALE:GREGORIAN
BEGIN:VEVENT
DTSTART:20220402T010000Z
DTEND:20220403T030000Z
X-MICROSOFT-CDO-ALLDAYEVENT:FALSE
SUMMARY:Charlie Berens
DESCRIPTION:Charlie Berens returns to Prairie du Chien for two nights of laughs. The PDC Area Chamber of Commerce presents this event in celebration of the 150th birthday of Prairie du Chien.\n\nTickets are $35 and can be purchased at the PDCHS District Office (800 E. Crawford St.) or online at paac.ludus.com.
X-ALT-DESC;FMTTYPE=text/html:<div class="kvgmc6g5 cxmmr5t8 oygrvhab hcukyx3x c1et5uql" style="overflow-wrap: break-word\; margin: 0px\; font-family: &quot\;Segoe UI Historic&quot\;\, &quot\;Segoe UI&quot\;\, Helvetica\, Arial\, sans-serif\; color: rgb(5\, 5\, 5)\; font-size: 15px\;">Charlie Berens returns to Prairie du Chien&nbsp\;for two nights of laughs. The PDC Area Chamber of Commerce presents this event in celebration of the 150th birthday of Prairie du Chien.</div>\n\n<div class="cxmmr5t8 oygrvhab hcukyx3x c1et5uql o9v6fnle" style="overflow-wrap: break-word\; margin: 0.5em 0px 0px\; font-family: &quot\;Segoe UI Historic&quot\;\, &quot\;Segoe UI&quot\;\, Helvetica\, Arial\, sans-serif\; color: rgb(5\, 5\, 5)\; font-size: 15px\;">Tickets are $35 and can be purchased at the PDCHS District Office (800 E. Crawford St.) or online at&nbsp\;<a class="oajrlxb2 g5ia77u1 qu0x051f esr5mh6w e9989ue4 r7d6kgcz rq0escxv nhd2j8a9 nc684nl6 p7hjln8o kvgmc6g5 cxmmr5t8 oygrvhab hcukyx3x jb3vyjys rz4wbd8a qt6c0cv9 a8nywdso i1ao9s8h esuyzwwr f1sip0of lzcic4wl gpro0wi8 py34i1dx" href="http://paac.ludus.com/?fbclid=IwAR2NOQREDlevLhu6fPYcxBBxhsA8UePA8RZblXDZLcbRv2n2ky1UwMZrB_k" rel="nofollow noopener" role="link" style="color: var(--blue-link)\; cursor: pointer\; text-decoration-line: none\; outline: none\; list-style: none\; border-width: 0px\; border-style: initial\; border-color: initial\; padding: 0px\; margin: 0px\; touch-action: manipulation\; background-color: transparent\; text-align: inherit\; display: inline\; -webkit-tap-highlight-color: transparent\; box-sizing: border-box\; font-family: inherit\;" tabindex="0" target="_blank">paac.ludus.com.</a></div>\n
LOCATION:Prairie du Chien Area Arts Center 800 E. Crawford Street Prairie du Chien\, WI 53821
UID:e.1604.10105
SEQUENCE:3
DTSTAMP:20260422T230004Z
URL:https://business.prairieduchien.org/events/details/charlie-berens-10105
END:VEVENT

END:VCALENDAR
