BEGIN:VCALENDAR
VERSION:2.0
PRODID:-//ChamberMaster//Event Calendar 2.0//EN
METHOD:PUBLISH
X-PUBLISHED-TTL:P3D
REFRESH-INTERVAL:P3D
CALSCALE:GREGORIAN
BEGIN:VEVENT
DTSTART;VALUE=DATE:20231007
DTEND;VALUE=DATE:20231008
TRANSP:TRANSPARENT
X-MICROSOFT-CDO-ALLDAYEVENT:TRUE
SUMMARY:Cemetery Tours
DESCRIPTION:Visit historic cemeteries in Prairie du Chien and meet residents who were part of the rich heritage of this community. Guided tours at 10 am\, 12 & 2 pm. Admission charge. Reservations required. Limited attendance.  Prairie du Chien Historical Society. 608-326-6960.
X-ALT-DESC;FMTTYPE=text/html:<div><span style="color:black\;"><span style="font-family:calibri\,sans-serif\;"><span style="font-size:8.5pt\;">Visit </span></span></span><span style="color:black\;"><span style="font-family:calibri\,sans-serif\;">historic cemeteries in Prairie du Chien and </span></span><span style="color:black\;"><span style="font-family:calibri\,sans-serif\;"><span style="font-size:8.5pt\;">meet residents who were part of the rich heritage of this community. Guided tours at 10 am\, 12 &amp\; 2 pm. Admission charge. Reservations required. Limited attendance. &nbsp\;</span></span></span><span style="color:black\;"><span style="font-family:calibri\,sans-serif\;">Prairie du Chien Historical Society. 608-326-6960. </span></span></div>\n
LOCATION:
UID:e.1604.10284
SEQUENCE:3
DTSTAMP:20260422T105243Z
URL:https://business.prairieduchien.org/events/details/cemetery-tours-10284
END:VEVENT

END:VCALENDAR
