BEGIN:VCALENDAR
VERSION:2.0
PRODID:-//ChamberMaster//Event Calendar 2.0//EN
METHOD:PUBLISH
X-PUBLISHED-TTL:P3D
REFRESH-INTERVAL:P3D
CALSCALE:GREGORIAN
BEGIN:VEVENT
DTSTART;VALUE=DATE:20231004
DTEND;VALUE=DATE:20231005
TRANSP:TRANSPARENT
X-MICROSOFT-CDO-ALLDAYEVENT:TRUE
SUMMARY:Celebration Belle Captain's Dinner Cruise
DESCRIPTION:The Celebration Belle is coming back to Prairie du Chien! \n\n \n\nCaptain's Dinner Cruise   Prairie du Chien\, WI\n\nWednesday\, October 4\, 2023\n\nBoarding at 6:00 pm  Cruise from 6:30 - 9:00 pm\n\nAdults:  $54.95 per person      Child:    $44.95 per person (ages 3-10)\n\n \n\nCome aboard the Celebration Belle for their popular Captain's Dinner & Dance Cruise!  The Dinner Cruises offer a special night out on the mighty Mississippi River\, while traveling in style on the "Celebration Belle".  Enjoy a fabulous 3 entr e buffet meal including their famous prime rib\, fabulous entertainment and enjoy the beautiful scenic view!  An experience you'll treasure!  For reservations call 800-297-0034 or make reservations online at www.celebrationbelle.com
X-ALT-DESC;FMTTYPE=text/html:&nbsp\;<br />\n<strong><u><span style="font-family:times new roman\,serif\;"><span style="font-size:12.0pt\;">The Celebration Belle is coming back to Prairie du Chien! </span></span></u></strong><br />\n&nbsp\;<br />\n<strong><span style="font-family:times new roman\,serif\;"><span style="font-size:12.0pt\;">Captain&rsquo\;s Dinner Cruise &ndash\; Prairie du Chien\, WI</span></span></strong><br />\n<strong><span style="font-family:times new roman\,serif\;"><span style="font-size:12.0pt\;">Wednesday\, October 4\, 2023</span></span></strong><br />\n<span style="font-family:times new roman\,serif\;"><span style="font-size:12.0pt\;">Boarding at 6:00 pm&nbsp\; Cruise from 6:30 - 9:00 pm</span></span><br />\n<span style="font-family:times new roman\,serif\;"><span style="font-size:12.0pt\;">Adults:&nbsp\; $54.95 per person &nbsp\;&nbsp\;&nbsp\;&nbsp\;&nbsp\;Child:&nbsp\;&nbsp\;&nbsp\; $44.95 per person (ages 3-10)</span></span><br />\n&nbsp\;<br />\nCome aboard the Celebration Belle for their popular Captain&rsquo\;s Dinner &amp\; Dance Cruise!&nbsp\; The Dinner Cruises offer a special night out on the mighty Mississippi River\, while traveling in style on the &ldquo\;Celebration Belle&rdquo\;.&nbsp\; Enjoy a fabulous 3 entr&eacute\;e buffet meal including their famous prime rib\, fabulous entertainment and enjoy the beautiful scenic view!&nbsp\; An experience you&rsquo\;ll treasure! &nbsp\;For reservations call 800-297-0034 or make reservations online at <a href="http://www.celebrationbelle.com"><span style="color:blue\;">www.celebrationbelle.com</span></a>
LOCATION:
UID:e.1604.10399
SEQUENCE:3
DTSTAMP:20260422T105410Z
URL:https://business.prairieduchien.org/events/details/celebration-belle-captain-s-dinner-cruise-10399
END:VEVENT

END:VCALENDAR
